BEGIN:VCALENDAR
VERSION:2.0
PRODID:Maroubra Saints 
CALSCALE:GREGORIAN
BEGIN:VEVENT
DTSTAMP:20260421T085442Z
UID:934c1958-8a52-4ba1-91bb-786edd2a829f
DTSTART:20170330T050500Z
DTEND:20170330T070500Z
DESCRIPTION:If your child needs a new mouth guard Rhino are offering a spec
 ialist fitting service and a great price! Rhino Mouthguards are custom fit
 ted\, so they will fit with braces or other orthodontics. They also provid
 e unlimited FREE adjustments for the full life of any Rhino mouthguard. Pa
 yment by EFTPOS\, cheque cash or credit card\, direct to Rhino on the day.
  Health Fund Rebates are available. \n\nDate: Thursday 30th March\n\nTime
 : 4pm to 6pm\n\nPlace: Clubhouse Pioneers Park\, Malabar\n
LOCATION:Pioneers Club House Malabar
SUMMARY:Rhino Mouthguard Fitting
URL;VALUE=URI:https://maroubra-saints.tidyhq.com/public/events/12250-rhino-
 mouthguard-fitting
END:VEVENT
END:VCALENDAR
